View In:
ArcGIS JavaScript
ArcGIS Online Map Viewer
ArcGIS Earth
Service Description: SWAP/SWAP_COAs_2025
Name: SWAP/SWAP_COAs_2025
Description:
Single Fused Map Cache: false
Extent:
XMin: 284023.08939999994
YMin: 3542299.320800001
XMax: 726643.0893999999
YMax: 3900289.320800001
Spatial Reference: 26917
(26917)
LatestVCSWkid(0)
Initial Extent:
XMin: 284023.08939999994
YMin: 3542299.320800001
XMax: 726643.0893999999
YMax: 3900289.320800001
Spatial Reference: 26917
(26917)
LatestVCSWkid(0)
Full Extent:
XMin: 284023.08939999994
YMin: 3542299.320800001
XMax: 726643.0893999999
YMax: 3900289.320800001
Spatial Reference: 26917
(26917)
LatestVCSWkid(0)
Pixel Size X: 30.0
Pixel Size Y: 30.0
Band Count: 1
Pixel Type: U8
RasterFunction Infos: {"rasterFunctionInfos": [{
"name": "None",
"description": "",
"help": ""
}]}
Mensuration Capabilities: Basic
Inspection Capabilities:
Has Histograms: true
Has Colormap: false
Has Multi Dimensions : false
Rendering Rule:
Min Scale: 0
Max Scale: 0
Copyright Text:
Service Data Type: esriImageServiceDataTypeGeneric
Min Values: 1
Max Values: 3
Mean Values: 2.509053626475174
Standard Deviation Values: 0.8299393518576061
Object ID Field:
Fields:
None
Default Mosaic Method: Center
Allowed Mosaic Methods:
SortField:
SortValue: null
Mosaic Operator: First
Default Compression Quality: 75
Default Resampling Method: Bilinear
Max Record Count: null
Max Image Height: 15000
Max Image Width: 15000
Max Download Image Count: null
Max Mosaic Image Count: null
Allow Raster Function: true
Allow Copy: true
Allow Analysis: true
Allow Compute TiePoints: false
Supports Statistics: false
Supports Advanced Queries: false
Use StandardizedQueries: true
Raster Type Infos:
Name: Raster Dataset
Description: Supports all ArcGIS Raster Datasets
Help:
Has Raster Attribute Table: true
Edit Fields Info: null
Ownership Based AccessControl For Rasters: null
Child Resources:
Info
Raster Attribute Table
Histograms
Statistics
Key Properties
Legend
Raster Function Infos
Supported Operations:
Export Image
Identify
Measure
Compute Histograms
Compute Statistics Histograms
Get Samples
Compute Class Statistics
Query Boundary
Compute Pixel Location
Compute Angles
Validate
Project