View In:
ArcGIS JavaScript
ArcGIS Online Map Viewer
ArcGIS Earth
Service Description: APT_Climate
Name: APT_Climate
Description:
Single Fused Map Cache: false
Extent:
XMin: -83.6666666666666
YMin: 31.933333333333294
XMax: -78.07499999999993
YMax: 36.67499999999996
Spatial Reference: 4326
(4326)
LatestVCSWkid(0)
Initial Extent:
XMin: -83.6666666666666
YMin: 31.933333333333294
XMax: -78.07499999999993
YMax: 36.67499999999996
Spatial Reference: 4326
(4326)
LatestVCSWkid(0)
Full Extent:
XMin: -83.6666666666666
YMin: 31.933333333333294
XMax: -78.07499999999993
YMax: 36.67499999999996
Spatial Reference: 4326
(4326)
LatestVCSWkid(0)
Pixel Size X: 0.008333333333333337
Pixel Size Y: 0.008333333333333335
Band Count: 114
Pixel Type: F32
RasterFunction Infos: {"rasterFunctionInfos": [{
"name": "None",
"description": "",
"help": ""
}]}
Mensuration Capabilities: Basic
Inspection Capabilities:
Has Histograms: true
Has Colormap: false
Has Multi Dimensions : false
Rendering Rule:
Min Scale: 0
Max Scale: 0
Copyright Text:
Service Data Type: esriImageServiceDataTypeGeneric
Min Values: 1.2000000476837158, 1.600000023841858, 1.2999999523162842, 1.7999999523162842, 2.799999952316284, 3.299999952316284, 1.100000023841858, 1, 0.8999999761581421, 0.8999999761581421, 1.100000023841858, 1, 32.29999923706055, 33.599998474121094, 32.79999923706055, 30.799999237060547, 29.799999237060547, 29, 37.099998474121094, 35.70000076293945, 22.700000762939453, 49.5, 48.79999923706055, 74.5999984741211, 2.4000000953674316, 3, 2.0999999046325684, 3, 3.700000047683716, 4.800000190734863, -5.099999904632568, -4, -4.900000095367432, -4.199999809265137, -3.700000047683716, -2.9000000953674316, 2.4000000953674316, 2.5, 1.7000000476837158, 2.700000047683716, 2.799999952316284, 3.0999999046325684, 1.600000023841858, 1.2999999523162842, 1.399999976158142, 2.0999999046325684, 1.5, 3.799999952316284, -0.6000000238418579, 1.2000000476837158, -0.30000001192092896, 0.800000011920929, 2.9000000953674316, 3.0999999046325684, 1.7000000476837158, 2, 1.600000023841858, 2.299999952316284, 3.0999999046325684, 4.099999904632568, 0.4000000059604645, 1.2999999523162842, 0.800000011920929, 0.800000011920929, 1.5, 1.899999976158142, 1181, 1256, 1206, 1176, 1142, 1202, 117, 133, 126, 113, 117, 132, 65, 55, 63, 56, 57, 58, 9.5, 9.899999618530273, 12.300000190734863, 6.900000095367432, 7.400000095367432, 15.100000381469727, 324, 357, 337, 316, 324, 340, 223, 224, 212, 226, 225, 235, 318, 287, 292, 279, 266, 264, 252, 242, 247, 259, 275, 276
Max Values: 21, 21.299999237060547, 21.100000381469727, 21.600000381469727, 22.600000381469727, 23.100000381469727, 14.899999618530273, 14.899999618530273, 15, 14.699999809265137, 14.899999618530273, 14.699999809265137, 45.5, 45.099998474121094, 56.900001525878906, 43, 42.599998474121094, 41.099998474121094, 845.5, 791.7000122070312, 818, 855.2999877929688, 853.5999755859375, 899.4000244140625, 36.20000076293945, 36, 36, 36.900001525878906, 38.400001525878906, 39.29999923706055, 7, 8.300000190734863, 7.300000190734863, 7.800000190734863, 8.399999618530273, 8.5, 35.900001525878906, 34.29999923706055, 35.599998474121094, 35.29999923706055, 35.70000076293945, 36.20000076293945, 29.600000381469727, 29.5, 29.5, 30.200000762939453, 31.399999618530273, 32.20000076293945, 24.399999618530273, 24.399999618530273, 24.200000762939453, 26.799999237060547, 28.200000762939453, 30.899999618530273, 28.799999237060547, 28.600000381469727, 28.700000762939453, 29.5, 30.700000762939453, 31.5, 12.800000190734863, 13.899999618530273, 13.100000381469727, 13.300000190734863, 14.300000190734863, 14.300000190734863, 2267, 2417, 2323, 2279, 2204, 2258, 217, 246, 248, 232, 227, 251, 165, 159, 150, 156, 148, 144, 37.29999923706055, 43.900001525878906, 39.599998474121094, 36.20000076293945, 31.700000762939453, 28.5, 614, 672, 660, 650, 652, 655, 507, 529, 498, 513, 471, 465, 574, 587, 562, 514, 503, 515, 570, 625, 553, 620, 649, 614
Mean Values: 17.52268206174735, 17.849219078736684, 17.621721182979257, 18.247989163966967, 19.213684546132097, 19.79824703991837, 13.414338981656172, 13.345581750392967, 13.292411089240682, 13.011195082800732, 13.095883776591117, 12.940845894740846, 40.29352208369572, 42.0362746709292, 40.627517114015326, 39.627638135940416, 39.05760735409052, 38.0018869753268, 772.5524699518937, 721.2137504939944, 749.1617094829155, 785.079419035103, 784.7129563545693, 821.2102684266564, 33.86325214691915, 33.62436800583436, 33.646029448513055, 34.36664174194253, 35.80084402007985, 36.58896696604747, 0.5808799623727217, 1.8837974106374689, 0.9364798390063146, 1.5348130940763927, 2.276384058659043, 2.542557819869432, 33.28237217752115, 31.740570541830728, 32.70954960085683, 32.831828619107036, 33.524459943989754, 34.04640914134055, 22.41911948358756, 24.4763373016643, 22.33420123452977, 19.465879260328716, 17.23783599348598, 18.042720395423732, 15.211715516130557, 17.249587339290468, 13.612380868362084, 20.249125061542948, 21.654257756332722, 23.961446203150903, 26.764565700487346, 26.708511838869324, 26.640831312880568, 27.536597767928857, 28.61915640923349, 29.544608926526145, 7.736559311355069, 8.83382676803737, 8.13927991766646, 8.259278769362297, 9.093801005246576, 9.304027925968262, 1325.3730723883427, 1405.9334029325148, 1346.936254421366, 1310.2911323371302, 1285.1144127439218, 1329.7571559904638, 151.38183461364665, 169.39534412640043, 161.97212916361522, 146.42167754803123, 144.8195874950008, 156.77479990235338, 81.46364481564008, 83.28491515652024, 83.43509876331603, 81.87075847525853, 77.0437955446136, 79.67719484135023, 19.788414333547642, 22.510570240339252, 21.49973250868678, 18.71500382036618, 19.748768252682382, 21.440960680516316, 411.52964977068626, 447.13546909328886, 426.9467254623931, 398.4042621707673, 399.12670167401615, 408.4729731835393, 273.86155476260967, 291.3996914782555, 272.8435057211566, 274.5215575673528, 266.48027070965196, 271.4402979260483, 403.1242605086973, 439.458507980533, 409.6968644010575, 371.41266081825785, 358.6053674473202, 357.166934156058, 315.4958058702235, 328.7641938181384, 300.6090499711735, 336.4015301431977, 349.6044325329427, 349.5919670079104
Standard Deviation Values: 1.4508112863697398, 1.4514708031021382, 1.446797826023517, 1.4763649301776054, 1.5325379967605566, 1.4547450839624452, 0.7138781436909649, 0.7069259447154411, 0.7240037148142613, 0.6873140596076133, 0.7031627023192341, 0.6942321015856662, 1.1654373490023437, 1.169085934978459, 1.1777926845846707, 1.3284104063081663, 1.32959310466527, 1.2918299078399171, 37.11198620584921, 37.18552333101477, 35.10102343063325, 37.7345758582817, 37.70228084201986, 40.83022762134537, 1.1571764085176068, 1.170398810599459, 1.1434758821686999, 1.2302295149289362, 1.3050230327863996, 1.2676935738729005, 1.650449973211622, 1.7165161513935843, 1.6920057811986415, 1.6984778147162132, 1.6926555639323257, 1.5465779696496968, 1.2953296519118067, 1.3049613809543803, 1.318673396458972, 1.3299044000545048, 1.3075954110331403, 1.2837077265156056, 7.748189171699302, 6.900326899858193, 7.23995838871576, 9.876051435210492, 10.774277800950049, 10.3716044327078, 4.0601158293034585, 4.101431856275973, 5.408125276724587, 3.8914608320787916, 2.788063681881908, 2.693582381859805, 1.1796162199754738, 1.167305484670148, 1.1896133114150649, 1.2217217000221463, 1.2931338437755706, 1.1675571588801497, 1.736470949082731, 1.7603816529508347, 1.6964003604316074, 1.7539769978244784, 1.8227839600995879, 1.745310807203138, 111.32006990999618, 120.88960668123798, 116.12485374882417, 115.43916055388138, 110.23804054929613, 109.24375905646718, 20.150332838728666, 22.239572782562643, 21.098650397366868, 21.470502895984506, 18.69808932739079, 14.31624835227253, 12.236162833613445, 13.191612726884397, 11.91914923161162, 13.072704231467947, 11.936412995821398, 10.217459913782491, 6.663176767505044, 8.795603187625101, 6.724559666901788, 7.352963151196078, 5.092297962618928, 2.52858743156542, 52.54559352624169, 62.01444963316995, 56.20163753408638, 51.35687746893067, 43.94827595634979, 41.417380637538734, 33.76701721238613, 40.12496073016427, 36.03528030157998, 33.588827842250176, 28.73158275757021, 24.78976543430381, 56.206604303938995, 63.54604982369155, 64.41491868195584, 58.59959561581132, 55.70669740467607, 61.73654190451111, 38.99724917371226, 52.10084813468502, 37.08277138617854, 45.735205720266336, 46.72923311742409, 40.9782278512097
Object ID Field:
Fields:
None
Default Mosaic Method: Center
Allowed Mosaic Methods:
SortField:
SortValue: null
Mosaic Operator: First
Default Compression Quality: 75
Default Resampling Method: Bilinear
Max Record Count: null
Max Image Height: 15000
Max Image Width: 15000
Max Download Image Count: null
Max Mosaic Image Count: null
Allow Raster Function: true
Allow Copy: true
Allow Analysis: true
Allow Compute TiePoints: false
Supports Statistics: false
Supports Advanced Queries: false
Use StandardizedQueries: true
Raster Type Infos:
Name: Raster Dataset
Description: Supports all ArcGIS Raster Datasets
Help:
Has Raster Attribute Table: false
Edit Fields Info: null
Ownership Based AccessControl For Rasters: null
Child Resources:
Info
Histograms
Statistics
Key Properties
Legend
Raster Function Infos
Supported Operations:
Export Image
Identify
Measure
Compute Histograms
Compute Statistics Histograms
Get Samples
Compute Class Statistics
Query Boundary
Compute Pixel Location
Compute Angles
Validate
Project